BEGIN:VCALENDAR
VERSION:2.0
PRODID:-//ChamberMaster//Event Calendar 2.0//EN
METHOD:PUBLISH
X-PUBLISHED-TTL:P1H
REFRESH-INTERVAL:P1H
CALSCALE:GREGORIAN
BEGIN:VTIMEZONE
TZID:America/Chicago
BEGIN:DAYLIGHT
RRULE:FREQ=YEARLY;BYMONTH=3;BYDAY=2SU
DTSTART:20070101T000000
TZOFFSETFROM:-0600
TZOFFSETTO:-0500
TZNAME:Central Daylight Time
END:DAYLIGHT
BEGIN:STANDARD
RRULE:FREQ=YEARLY;BYMONTH=11;BYDAY=1SU
DTSTART:20070101T000000
TZOFFSETFROM:-0500
TZOFFSETTO:-0600
TZNAME:Central Standard Time
END:STANDARD
END:VTIMEZONE
BEGIN:VEVENT
DTSTART;TZID=America/Chicago:20260512T110000
DTEND;TZID=America/Chicago:20260512T130000
X-MICROSOFT-CDO-ALLDAYEVENT:FALSE
SUMMARY:May 2026 Luncheon
DESCRIPTION:Come join us for May's luncheon! This luncheon is sponsored by Leaders Credit Union. Our speaker this month will be April Bryan with Bryan Realty discussing the current real estate trends in Fayette County. Come join us for food\, conversation and the chance to learn something new about our community. We hope to see you there!
X-ALT-DESC;FMTTYPE=text/html:<!DOCTYPE html><html><head><title></title></head><body aria-disabled="false"><p>Come join us for May&#39\;s luncheon! This luncheon is sponsored by Leaders Credit Union. Our speaker this month will be April Bryan with Bryan Realty discussing the current real estate trends in Fayette County. Come join us for food\, conversation and the chance to learn something new about our community. We hope to see you there!</p></body></html>
LOCATION:220 Fair Oaks Dr Oakland TN 38060
UID:e.4400.1418773
SEQUENCE:3
DTSTAMP:20260425T011739Z
URL:https://oaklandtnregionalchamberofcommerce.growthzoneapp.com/eventcalendar/Details/may-2026-luncheon-1676955?sourceTypeId=Hub
END:VEVENT
END:VCALENDAR
