BEGIN:VCALENDAR
VERSION:2.0
PRODID:-//ChamberMaster//Event Calendar 2.0//EN
METHOD:PUBLISH
X-PUBLISHED-TTL:P1H
REFRESH-INTERVAL:P1H
CALSCALE:GREGORIAN
BEGIN:VTIMEZONE
TZID:America/Chicago
BEGIN:DAYLIGHT
RRULE:FREQ=YEARLY;BYMONTH=3;BYDAY=2SU
DTSTART:20070101T000000
TZOFFSETFROM:-0600
TZOFFSETTO:-0500
TZNAME:Central Daylight Time
END:DAYLIGHT
BEGIN:STANDARD
RRULE:FREQ=YEARLY;BYMONTH=11;BYDAY=1SU
DTSTART:20070101T000000
TZOFFSETFROM:-0500
TZOFFSETTO:-0600
TZNAME:Central Standard Time
END:STANDARD
END:VTIMEZONE
BEGIN:VEVENT
DTSTART;TZID=America/Chicago:20261003T070000
DTEND;TZID=America/Chicago:20261003T150000
X-MICROSOFT-CDO-ALLDAYEVENT:FALSE
SUMMARY:Oakland in October 2026
DESCRIPTION:Welcome to our annual Oakland In October festival taking place October 3\, 2025 in Oakland\, TN at West Junior High School. We will have food trucks\, vendors\, bouncy houses and activities plus a variety of other entertainment. Rain date is November 7\, 2026.
X-ALT-DESC;FMTTYPE=text/html:<!DOCTYPE html><html><head><title></title></head><body aria-disabled="false"><p>Welcome to our annual Oakland In October festival taking place October 3\, 2025 in Oakland\, TN at West Junior High School. We will have food trucks\, vendors\, bouncy houses and activities plus a variety of other entertainment. Rain date is November 7\, 2026.&nbsp\;</p></body></html>
LOCATION:Address 13100 Highway 194 Oakland TN 38060
UID:e.4400.1255977
SEQUENCE:3
DTSTAMP:20260425T012047Z
URL:https://oaklandtnregionalchamberofcommerce.growthzoneapp.com/eventcalendar/Details/oakland-in-october-2026-1469924?sourceTypeId=Hub
END:VEVENT
END:VCALENDAR
