BEGIN:VCALENDAR
VERSION:2.0
PRODID:-//ChamberMaster//Event Calendar 2.0//EN
METHOD:PUBLISH
X-PUBLISHED-TTL:P1H
REFRESH-INTERVAL:P1H
CALSCALE:GREGORIAN
BEGIN:VTIMEZONE
TZID:America/Chicago
BEGIN:DAYLIGHT
RRULE:FREQ=YEARLY;BYMONTH=3;BYDAY=2SU
DTSTART:20070101T000000
TZOFFSETFROM:-0600
TZOFFSETTO:-0500
TZNAME:Central Daylight Time
END:DAYLIGHT
BEGIN:STANDARD
RRULE:FREQ=YEARLY;BYMONTH=11;BYDAY=1SU
DTSTART:20070101T000000
TZOFFSETFROM:-0500
TZOFFSETTO:-0600
TZNAME:Central Standard Time
END:STANDARD
END:VTIMEZONE
BEGIN:VEVENT
DTSTART;TZID=America/Chicago:20270403T070000
DTEND;TZID=America/Chicago:20270403T150000
X-MICROSOFT-CDO-ALLDAYEVENT:FALSE
SUMMARY:Spring Fest 2027
DESCRIPTION:Welcome to our annual Spring Fest festival taking place April 3rd\, 2027\, in Oakland\, TN at West Junior High School. We will have food trucks\, vendors\, bouncy houses\, petting farm and activities plus a variety of other entertainment. Rain date is TBD at this time.
X-ALT-DESC;FMTTYPE=text/html:<!DOCTYPE html><html><head><title></title></head><body aria-disabled="false"><p><span style="color: rgb(0\, 0\, 0)\; font-family: Verdana\, Geneva\, sans-serif\; font-size: 12px\; font-style: normal\; font-variant-ligatures: normal\; font-variant-caps: normal\; font-weight: 400\; letter-spacing: 0.5px\; orphans: 2\; text-align: start\; text-indent: 0px\; text-transform: none\; widows: 2\; word-spacing: 0px\; -webkit-text-stroke-width: 0px\; white-space: normal\; background-color: rgb(255\, 255\, 255)\; text-decoration-thickness: initial\; text-decoration-style: initial\; text-decoration-color: initial\; float: none\; display: inline !important\;">Welcome to our annual Spring Fest festival taking place April 3rd\, 2027\, in Oakland\, TN at West Junior High School. We will have food trucks\, vendors\, bouncy houses\, petting farm and activities plus a variety of other entertainment. Rain date is TBD at this time.</span></p></body></html>
LOCATION:Address 13100 Highway 194 Oakland TN 38060
UID:e.4400.1451287
SEQUENCE:3
DTSTAMP:20260425T011532Z
URL:https://oaklandtnregionalchamberofcommerce.growthzoneapp.com/eventcalendar/Details/spring-fest-2027-1719016?sourceTypeId=Hub
END:VEVENT
END:VCALENDAR
